BEGIN:VCALENDAR
VERSION:2.0
PRODID:-//Munsky Group - ECPv6.15.20//NONSGML v1.0//EN
CALSCALE:GREGORIAN
METHOD:PUBLISH
X-WR-CALNAME:Munsky Group
X-ORIGINAL-URL:https://www.engr.colostate.edu/~munsky
X-WR-CALDESC:Events for Munsky Group
REFRESH-INTERVAL;VALUE=DURATION:PT1H
X-Robots-Tag:noindex
X-PUBLISHED-TTL:PT1H
BEGIN:VTIMEZONE
TZID:UTC
BEGIN:STANDARD
TZOFFSETFROM:+0000
TZOFFSETTO:+0000
TZNAME:UTC
DTSTART:20170101T000000
END:STANDARD
END:VTIMEZONE
BEGIN:VEVENT
DTSTART;TZID=UTC:20181005T080000
DTEND;TZID=UTC:20181005T170000
DTSTAMP:20260422T174836
CREATED:20180831T190323Z
LAST-MODIFIED:20180831T190323Z
UID:441-1538726400-1538758800@www.engr.colostate.edu
SUMMARY:Brian to give Math Colloquium at Georgia State University
DESCRIPTION:
URL:https://www.engr.colostate.edu/~munsky/event/brian-to-give-math-colloquium-at-georgia-state-university/
END:VEVENT
END:VCALENDAR