BEGIN:VCALENDAR
VERSION:2.0
PRODID:-//Munsky Group - ECPv6.15.20//NONSGML v1.0//EN
CALSCALE:GREGORIAN
METHOD:PUBLISH
X-WR-CALNAME:Munsky Group
X-ORIGINAL-URL:https://www.engr.colostate.edu/~munsky
X-WR-CALDESC:Events for Munsky Group
REFRESH-INTERVAL;VALUE=DURATION:PT1H
X-Robots-Tag:noindex
X-PUBLISHED-TTL:PT1H
BEGIN:VTIMEZONE
TZID:UTC
BEGIN:STANDARD
TZOFFSETFROM:+0000
TZOFFSETTO:+0000
TZNAME:UTC
DTSTART:20160101T000000
END:STANDARD
END:VTIMEZONE
BEGIN:VEVENT
DTSTART;TZID=UTC:20171109T120000
DTEND;TZID=UTC:20171109T130000
DTSTAMP:20260420T180809
CREATED:20170828T234717Z
LAST-MODIFIED:20170828T234717Z
UID:342-1510228800-1510232400@www.engr.colostate.edu
SUMMARY:BIOM 421 - Office Hours
DESCRIPTION:
URL:https://www.engr.colostate.edu/~munsky/event/biom-421-office-hours-22/
LOCATION:Phoenix Design Studio
CATEGORIES:BIOM 421
END:VEVENT
BEGIN:VEVENT
DTSTART;TZID=UTC:20171109T140000
DTEND;TZID=UTC:20171109T153000
DTSTAMP:20260420T180809
CREATED:20170829T000057Z
LAST-MODIFIED:20170829T151519Z
UID:372-1510236000-1510241400@www.engr.colostate.edu
SUMMARY:CBE Seminar - Yifu Ding (CU Boulder)
DESCRIPTION:Yifu Ding\nMech Engineering\, CU Boulder\nhttp://colorado.edu/mechanical/npl/people.html
URL:https://www.engr.colostate.edu/~munsky/event/cbe-seminar-8/
LOCATION:Lory Student Center 308-310
CATEGORIES:CBE Seminars
END:VEVENT
END:VCALENDAR