BEGIN:VCALENDAR
VERSION:2.0
PRODID:-//Munsky Group - ECPv6.15.20//NONSGML v1.0//EN
CALSCALE:GREGORIAN
METHOD:PUBLISH
X-WR-CALNAME:Munsky Group
X-ORIGINAL-URL:https://www.engr.colostate.edu/~munsky
X-WR-CALDESC:Events for Munsky Group
REFRESH-INTERVAL;VALUE=DURATION:PT1H
X-Robots-Tag:noindex
X-PUBLISHED-TTL:PT1H
BEGIN:VTIMEZONE
TZID:UTC
BEGIN:STANDARD
TZOFFSETFROM:+0000
TZOFFSETTO:+0000
TZNAME:UTC
DTSTART:20160101T000000
END:STANDARD
END:VTIMEZONE
BEGIN:VEVENT
DTSTART;TZID=UTC:20171101T160000
DTEND;TZID=UTC:20171101T171500
DTSTAMP:20260420T184322
CREATED:20170828T194940Z
LAST-MODIFIED:20170828T194940Z
UID:268-1509552000-1509556500@www.engr.colostate.edu
SUMMARY:BIOM 421
DESCRIPTION:Part 4 - Solute Transport \nLecture 21: Solute Transport\, Part 2 \nResources: Fournier\, Ch. 5
URL:https://www.engr.colostate.edu/~munsky/event/biom-421-18/
LOCATION:Scott 229
CATEGORIES:BIOM 421
END:VEVENT
BEGIN:VEVENT
DTSTART;TZID=UTC:20171101T220000
DTEND;TZID=UTC:20171101T220000
DTSTAMP:20260420T184322
CREATED:20170828T195103Z
LAST-MODIFIED:20170828T195522Z
UID:270-1509573600-1509573600@www.engr.colostate.edu
SUMMARY:BIOM 421 - Group Computer Assignment 1 Due!
DESCRIPTION:
URL:https://www.engr.colostate.edu/~munsky/event/biom-421-group-computer-assignment-due/
CATEGORIES:BIOM 421
END:VEVENT
END:VCALENDAR