BEGIN:VCALENDAR
VERSION:2.0
PRODID:-//Munsky Group - ECPv6.15.20//NONSGML v1.0//EN
CALSCALE:GREGORIAN
METHOD:PUBLISH
X-WR-CALNAME:Munsky Group
X-ORIGINAL-URL:https://www.engr.colostate.edu/~munsky
X-WR-CALDESC:Events for Munsky Group
REFRESH-INTERVAL;VALUE=DURATION:PT1H
X-Robots-Tag:noindex
X-PUBLISHED-TTL:PT1H
BEGIN:VTIMEZONE
TZID:UTC
BEGIN:STANDARD
TZOFFSETFROM:+0000
TZOFFSETTO:+0000
TZNAME:UTC
DTSTART:20160101T000000
END:STANDARD
END:VTIMEZONE
BEGIN:VEVENT
DTSTART;VALUE=DATE:20171023
DTEND;VALUE=DATE:20171028
DTSTAMP:20260420T150635
CREATED:20170828T024845Z
LAST-MODIFIED:20170828T024845Z
UID:204-1508716800-1509148799@www.engr.colostate.edu
SUMMARY:Brian will be visiting and presenting an invited talk at ETH Basel
DESCRIPTION:
URL:https://www.engr.colostate.edu/~munsky/event/brian-will-be-visiting-and-presenting-an-invited-talk-at-eth-basel/
LOCATION:ETH Basel
END:VEVENT
BEGIN:VEVENT
DTSTART;TZID=UTC:20171026T120000
DTEND;TZID=UTC:20171026T130000
DTSTAMP:20260420T150635
CREATED:20170828T202150Z
LAST-MODIFIED:20170828T202150Z
UID:334-1509019200-1509022800@www.engr.colostate.edu
SUMMARY:BIOM 421 - Office Hours
DESCRIPTION:
URL:https://www.engr.colostate.edu/~munsky/event/biom-421-office-hours-18/
LOCATION:Phoenix Design Studio
CATEGORIES:BIOM 421
END:VEVENT
BEGIN:VEVENT
DTSTART;TZID=UTC:20171026T140000
DTEND;TZID=UTC:20171026T153000
DTSTAMP:20260420T150635
CREATED:20170829T000011Z
LAST-MODIFIED:20170829T151425Z
UID:370-1509026400-1509031800@www.engr.colostate.edu
SUMMARY:CBE Seminar - Abhyudai Singh (Delaware)
DESCRIPTION:Abhyudai Singh\nECE & Biomed\, Delaware\nhttp://udel.edu/~absingh/Site/Welcome/html
URL:https://www.engr.colostate.edu/~munsky/event/cbe-seminar-7/
LOCATION:Lory Student Center 308-310
CATEGORIES:CBE Seminars
END:VEVENT
END:VCALENDAR