BEGIN:VCALENDAR
VERSION:2.0
PRODID:-//Munsky Group - ECPv6.15.20//NONSGML v1.0//EN
CALSCALE:GREGORIAN
METHOD:PUBLISH
X-WR-CALNAME:Munsky Group
X-ORIGINAL-URL:https://www.engr.colostate.edu/~munsky
X-WR-CALDESC:Events for Munsky Group
REFRESH-INTERVAL;VALUE=DURATION:PT1H
X-Robots-Tag:noindex
X-PUBLISHED-TTL:PT1H
BEGIN:VTIMEZONE
TZID:UTC
BEGIN:STANDARD
TZOFFSETFROM:+0000
TZOFFSETTO:+0000
TZNAME:UTC
DTSTART:20160101T000000
END:STANDARD
END:VTIMEZONE
BEGIN:VEVENT
DTSTART;TZID=UTC:20171012T120000
DTEND;TZID=UTC:20171012T130000
DTSTAMP:20260419T121352
CREATED:20170828T201929Z
LAST-MODIFIED:20170828T201929Z
UID:326-1507809600-1507813200@www.engr.colostate.edu
SUMMARY:BIOM 421 - Office Hours
DESCRIPTION:
URL:https://www.engr.colostate.edu/~munsky/event/biom-421-office-hours-14/
LOCATION:Phoenix Design Studio
CATEGORIES:BIOM 421
END:VEVENT
BEGIN:VEVENT
DTSTART;TZID=UTC:20171012T140000
DTEND;TZID=UTC:20171012T153000
DTSTAMP:20260419T121352
CREATED:20170828T235929Z
LAST-MODIFIED:20170829T151339Z
UID:368-1507816800-1507822200@www.engr.colostate.edu
SUMMARY:CBE Seminar - Mark Brynildsen (Princeton)
DESCRIPTION:Mark Brynildsen\nCBE\, Princeton\nhttp://princeton.edu/cbe/people/faculty/brynildsen/group
URL:https://www.engr.colostate.edu/~munsky/event/cbe-seminar-6/
LOCATION:Lory Student Center 308-310
CATEGORIES:CBE Seminars
END:VEVENT
END:VCALENDAR