BEGIN:VCALENDAR
VERSION:2.0
PRODID:-//Munsky Group - ECPv6.15.20//NONSGML v1.0//EN
CALSCALE:GREGORIAN
METHOD:PUBLISH
X-WR-CALNAME:Munsky Group
X-ORIGINAL-URL:https://www.engr.colostate.edu/~munsky
X-WR-CALDESC:Events for Munsky Group
REFRESH-INTERVAL;VALUE=DURATION:PT1H
X-Robots-Tag:noindex
X-PUBLISHED-TTL:PT1H
BEGIN:VTIMEZONE
TZID:UTC
BEGIN:STANDARD
TZOFFSETFROM:+0000
TZOFFSETTO:+0000
TZNAME:UTC
DTSTART:20160101T000000
END:STANDARD
END:VTIMEZONE
BEGIN:VEVENT
DTSTART;TZID=UTC:20170911T080000
DTEND;TZID=UTC:20170915T170000
DTSTAMP:20260420T180809
CREATED:20170829T015350Z
LAST-MODIFIED:20170829T015350Z
UID:382-1505116800-1505494800@www.engr.colostate.edu
SUMMARY:Ania Baetica Visit
DESCRIPTION:Ania is visiting the group to work on the RBF FSP paper with Zach and Huy.
URL:https://www.engr.colostate.edu/~munsky/event/ania-baetica-visit/
END:VEVENT
BEGIN:VEVENT
DTSTART;TZID=UTC:20170911T120000
DTEND;TZID=UTC:20170911T130000
DTSTAMP:20260420T180809
CREATED:20170828T022754Z
LAST-MODIFIED:20170828T022754Z
UID:173-1505131200-1505134800@www.engr.colostate.edu
SUMMARY:SBME Seminar Series - TBD
DESCRIPTION:
URL:https://www.engr.colostate.edu/~munsky/event/sbme-seminar-series-tbd/
LOCATION:Behavioral Sciences Building\, Room 103
END:VEVENT
BEGIN:VEVENT
DTSTART;TZID=UTC:20170911T160000
DTEND;TZID=UTC:20170911T171500
DTSTAMP:20260420T180809
CREATED:20170828T031249Z
LAST-MODIFIED:20170828T031249Z
UID:227-1505145600-1505150100@www.engr.colostate.edu
SUMMARY:BIOM 421
DESCRIPTION:Part 1 – Review of Thermodynamics\, Mathematics and Computation \nLecture 6: Review of equilibrium thermodynamics\, part 3 \nResources: Fournier\, Ch. 2
URL:https://www.engr.colostate.edu/~munsky/event/biom-421-5/
LOCATION:Scott 229
END:VEVENT
BEGIN:VEVENT
DTSTART;TZID=UTC:20170911T220000
DTEND;TZID=UTC:20170911T220000
DTSTAMP:20260420T180809
CREATED:20170828T031346Z
LAST-MODIFIED:20170828T195236Z
UID:229-1505167200-1505167200@www.engr.colostate.edu
SUMMARY:BIOM 421 - Homework 2 Due!
DESCRIPTION:
URL:https://www.engr.colostate.edu/~munsky/event/biom-421-homework-2-due/
CATEGORIES:BIOM 421
END:VEVENT
END:VCALENDAR